BEGIN:VCALENDAR
VERSION:2.0
PRODID:-//wp-events-plugin.com//7.2.3.1//EN
TZID:Europe/Berlin
X-WR-TIMEZONE:Europe/Berlin
BEGIN:VEVENT
UID:524@kirche-tangstedt.de
DTSTART;TZID=Europe/Berlin:20240623T100000
DTEND;TZID=Europe/Berlin:20240623T110000
DTSTAMP:20240529T134628Z
URL:https://www.kirche-tangstedt.de/events/abendmahlsgottesdienst-in-der-c
 antate-kirche-mit-pastor-peter-fahr-musik-von-nicola-schneider-person-und-
 dem-orchester-in-dubio-pro-musica-unter-der-leitung-von-martina-weiland/
SUMMARY:Abendmahlsgottesdienst in der Cantate-Kirche mit Pastor Peter Fahr\
 , Musik von Nicola Schneider-Person und dem Orchester "in dubio pro musica
 " unter der Leitung von Martina Weiland
DESCRIPTION:anschließend Kirchencafé
LOCATION:Cantate-Kirche Duvenstedt\, Duvenstedter Markt 4\, Hamburg\, Hambu
 rg\, 22397 \, Deutschland
X-APPLE-STRUCTURED-LOCATION;VALUE=URI;X-ADDRESS=Duvenstedter Markt 4\, Hamb
 urg\, Hamburg\, 22397 \, Deutschland;X-APPLE-RADIUS=100;X-TITLE=Cantate-Ki
 rche Duvenstedt:geo:0,0
END:VEVENT
BEGIN:VTIMEZONE
TZID:Europe/Berlin
X-LIC-LOCATION:Europe/Berlin
BEGIN:DAYLIGHT
DTSTART:20240331T030000
TZOFFSETFROM:+0100
TZOFFSETTO:+0200
TZNAME:CEST
END:DAYLIGHT
END:VTIMEZONE
END:VCALENDAR