BEGIN:VCALENDAR
VERSION:2.0
PRODID:-//wp-events-plugin.com//7.2.3.1//EN
TZID:Europe/Berlin
X-WR-TIMEZONE:Europe/Berlin
BEGIN:VEVENT
UID:547@kirche-tangstedt.de
DTSTART;TZID=Europe/Berlin:20240908T110000
DTEND;TZID=Europe/Berlin:20240908T120000
DTSTAMP:20240820T083308Z
URL:https://www.kirche-tangstedt.de/events/abendmahlsgottesdienst-mit-past
 or-peter-fahr-musik-von-maria-dittmann-anschliessend-gemeindeversammlung-i
 m-gemeindezentrum/
SUMMARY:Abendmahlsgottesdienst mit Pastor Peter Fahr\, Musik von Maria Ditt
 mann\, anschließend GEMEINDEVERSAMMLUNG im Gemeindezentrum
DESCRIPTION:Der Kirchengemeinderat berichtet aus dem Vorjahr und über Ver
 änderungen in der Gemeinde.
LOCATION:Kirche "Zum Guten Hirten" (Tangstedt)\, Hauptstraße 92\, Tangsted
 t\, Schleswig-Holstein\, 22889\, Stormarn\, Deutschland
X-APPLE-STRUCTURED-LOCATION;VALUE=URI;X-ADDRESS=Hauptstraße 92\, Tangstedt
 \, Schleswig-Holstein\, 22889\, Stormarn\, Deutschland;X-APPLE-RADIUS=100;
 X-TITLE=Kirche \"Zum Guten Hirten\" (Tangstedt):geo:0,0
END:VEVENT
BEGIN:VTIMEZONE
TZID:Europe/Berlin
X-LIC-LOCATION:Europe/Berlin
BEGIN:DAYLIGHT
DTSTART:20240331T030000
TZOFFSETFROM:+0100
TZOFFSETTO:+0200
TZNAME:CEST
END:DAYLIGHT
END:VTIMEZONE
END:VCALENDAR