BEGIN:VCALENDAR
VERSION:2.0
PRODID:-//wp-events-plugin.com//7.2.3.1//EN
TZID:Europe/Berlin
X-WR-TIMEZONE:Europe/Berlin
BEGIN:VEVENT
UID:510@kirche-tangstedt.de
DTSTART;TZID=Europe/Berlin:20240509T110000
DTEND;TZID=Europe/Berlin:20240509T120000
DTSTAMP:20240215T110048Z
URL:https://www.kirche-tangstedt.de/events/christi-himmelfahrt-regionaler-
 festgottesdienst-mit-pastor-peter-fahr-und-team-am-haselknick-in-wohldorf-
 ohlstedt-oder-auf-der-kirchenwiese-in-duvenstedt/
SUMMARY:Christi Himmelfahrt - Regionaler Festgottesdienst mit Pastor Peter 
 Fahr und Team am Haselknick in Wohldorf-Ohlstedt oder auf der Kirchenwiese
  in Duvenstedt\, Musik vom Lemsahler Posaunenchor unter der Leitung von In
 dira Chuda
DESCRIPTION:Thema: Da berühren sich Himmel und Erde\n\nanschließend Pickn
 ick
LOCATION:Cantate-Kirche Duvenstedt\, Duvenstedter Markt 4\, Hamburg\, Hambu
 rg\, 22397 \, Deutschland
X-APPLE-STRUCTURED-LOCATION;VALUE=URI;X-ADDRESS=Duvenstedter Markt 4\, Hamb
 urg\, Hamburg\, 22397 \, Deutschland;X-APPLE-RADIUS=100;X-TITLE=Cantate-Ki
 rche Duvenstedt:geo:0,0
END:VEVENT
BEGIN:VTIMEZONE
TZID:Europe/Berlin
X-LIC-LOCATION:Europe/Berlin
BEGIN:DAYLIGHT
DTSTART:20240331T030000
TZOFFSETFROM:+0100
TZOFFSETTO:+0200
TZNAME:CEST
END:DAYLIGHT
END:VTIMEZONE
END:VCALENDAR