BEGIN:VCALENDAR
VERSION:2.0
PRODID:-//wp-events-plugin.com//7.2.3.1//EN
TZID:Europe/Berlin
X-WR-TIMEZONE:Europe/Berlin
BEGIN:VEVENT
UID:530@kirche-tangstedt.de
DTSTART;TZID=Europe/Berlin:20240714T110000
DTEND;TZID=Europe/Berlin:20240714T120000
DTSTAMP:20240529T135508Z
URL:https://www.kirche-tangstedt.de/events/gottesdienst-mit-pastor-peter-f
 ahr-musik-von-der-kantorei-zum-guten-hirten-unter-der-leitung-von-nicola-s
 chneider-person/
SUMMARY:Gottesdienst mit Pastor Peter Fahr\, Musik von der Kantorei "Zum Gu
 ten Hirten" unter der Leitung von Nicola Schneider-Person
DESCRIPTION:
LOCATION:Kirche "Zum Guten Hirten" (Tangstedt)\, Hauptstraße 92\, Tangsted
 t\, Schleswig-Holstein\, 22889\, Stormarn\, Deutschland
X-APPLE-STRUCTURED-LOCATION;VALUE=URI;X-ADDRESS=Hauptstraße 92\, Tangstedt
 \, Schleswig-Holstein\, 22889\, Stormarn\, Deutschland;X-APPLE-RADIUS=100;
 X-TITLE=Kirche \"Zum Guten Hirten\" (Tangstedt):geo:0,0
END:VEVENT
BEGIN:VTIMEZONE
TZID:Europe/Berlin
X-LIC-LOCATION:Europe/Berlin
BEGIN:DAYLIGHT
DTSTART:20240331T030000
TZOFFSETFROM:+0100
TZOFFSETTO:+0200
TZNAME:CEST
END:DAYLIGHT
END:VTIMEZONE
END:VCALENDAR