BEGIN:VCALENDAR
VERSION:2.0
PRODID:-//wp-events-plugin.com//7.2.3.1//EN
TZID:Europe/Berlin
X-WR-TIMEZONE:Europe/Berlin
BEGIN:VEVENT
UID:544@kirche-tangstedt.de
DTSTART;TZID=Europe/Berlin:20240904T081500
DTEND;TZID=Europe/Berlin:20240904T084500
DTSTAMP:20240529T142805Z
URL:https://www.kirche-tangstedt.de/events/gottesdienst-zum-vorschulanfang
 -in-der-cantate-kirche-mit-pastor-peter-fahr-musik-von-nicola-schneider-pe
 rson/
SUMMARY:Gottesdienst zum Vorschulanfang in der Cantate-Kirche mit Pastor Pe
 ter Fahr\, Musik von Nicola Schneider-Person
DESCRIPTION:
LOCATION:Cantate-Kirche Duvenstedt\, Duvenstedter Markt 4\, Hamburg\, Hambu
 rg\, 22397 \, Deutschland
X-APPLE-STRUCTURED-LOCATION;VALUE=URI;X-ADDRESS=Duvenstedter Markt 4\, Hamb
 urg\, Hamburg\, 22397 \, Deutschland;X-APPLE-RADIUS=100;X-TITLE=Cantate-Ki
 rche Duvenstedt:geo:0,0
END:VEVENT
BEGIN:VTIMEZONE
TZID:Europe/Berlin
X-LIC-LOCATION:Europe/Berlin
BEGIN:DAYLIGHT
DTSTART:20240331T030000
TZOFFSETFROM:+0100
TZOFFSETTO:+0200
TZNAME:CEST
END:DAYLIGHT
END:VTIMEZONE
END:VCALENDAR