BEGIN:VCALENDAR
VERSION:2.0
PRODID:-//wp-events-plugin.com//7.2.3.1//EN
TZID:Europe/Berlin
X-WR-TIMEZONE:Europe/Berlin
BEGIN:VEVENT
UID:508@kirche-tangstedt.de
DTSTART;TZID=Europe/Berlin:20240428T110000
DTEND;TZID=Europe/Berlin:20240428T120000
DTSTAMP:20240213T120453Z
URL:https://www.kirche-tangstedt.de/events/konfirmationsgottesdienst-mit-p
 astor-i-r-wolfgang-gloeckner-musik-vom-elternchor-unter-der-leitung-von-he
 lke-kattner-2/
SUMMARY:Konfirmationsgottesdienst mit Pastor i. R. Wolfgang Glöckner\, Mus
 ik vom Elternchor unter der Leitung von Helke Kattner
DESCRIPTION:anschließend Kirchencafé
LOCATION:Kirche "Zum Guten Hirten" (Tangstedt)\, Hauptstraße 92\, Tangsted
 t\, Schleswig-Holstein\, 22889\, Stormarn\, Deutschland
X-APPLE-STRUCTURED-LOCATION;VALUE=URI;X-ADDRESS=Hauptstraße 92\, Tangstedt
 \, Schleswig-Holstein\, 22889\, Stormarn\, Deutschland;X-APPLE-RADIUS=100;
 X-TITLE=Kirche \"Zum Guten Hirten\" (Tangstedt):geo:0,0
END:VEVENT
BEGIN:VTIMEZONE
TZID:Europe/Berlin
X-LIC-LOCATION:Europe/Berlin
BEGIN:DAYLIGHT
DTSTART:20240331T030000
TZOFFSETFROM:+0100
TZOFFSETTO:+0200
TZNAME:CEST
END:DAYLIGHT
END:VTIMEZONE
END:VCALENDAR