BEGIN:VCALENDAR
VERSION:2.0
PRODID:-//wp-events-plugin.com//7.2.3.1//EN
TZID:Europe/Berlin
X-WR-TIMEZONE:Europe/Berlin
BEGIN:VEVENT
UID:514@kirche-tangstedt.de
DTSTART;TZID=Europe/Berlin:20240520T100000
DTEND;TZID=Europe/Berlin:20240520T110000
DTSTAMP:20240215T110651Z
URL:https://www.kirche-tangstedt.de/events/pfingstmontag-gottesdienst-mit-
 pastor-peter-fahr-im-duvenstedter-freibad-mit-taufen-und-tauferinnerung-mu
 sik-von-nicola-schneider-person/
SUMMARY:Pfingstmontag - Gottesdienst mit Pastor Peter Fahr im Duvenstedter 
 Freibad mit Taufen und Tauferinnerung\, Musik von Nicola Schneider-Person
DESCRIPTION:
LOCATION:Freibad Duvenstedt\, Puckaffer Weg 13\, Hamburg\, Hamburg\, 22397\
 , Deutschland
X-APPLE-STRUCTURED-LOCATION;VALUE=URI;X-ADDRESS=Puckaffer Weg 13\, Hamburg\
 , Hamburg\, 22397\, Deutschland;X-APPLE-RADIUS=100;X-TITLE=Freibad Duvenst
 edt:geo:0,0
END:VEVENT
BEGIN:VTIMEZONE
TZID:Europe/Berlin
X-LIC-LOCATION:Europe/Berlin
BEGIN:DAYLIGHT
DTSTART:20240331T030000
TZOFFSETFROM:+0100
TZOFFSETTO:+0200
TZNAME:CEST
END:DAYLIGHT
END:VTIMEZONE
END:VCALENDAR