BEGIN:VCALENDAR
VERSION:2.0
PRODID:-//wp-events-plugin.com//7.2.3.1//EN
TZID:Europe/Berlin
X-WR-TIMEZONE:Europe/Berlin
BEGIN:VEVENT
UID:532@kirche-tangstedt.de
DTSTART;TZID=Europe/Berlin:20240721T110000
DTEND;TZID=Europe/Berlin:20240721T120000
DTSTAMP:20240529T140635Z
URL:https://www.kirche-tangstedt.de/events/sommerpredigtreihe-kirche-und-p
 olitik-gottesdienst-auf-der-terrasse-des-gemeindezentrums-mit-pastor-peter
 -fahr-thema-jethro-hilft-mose-musik-von-maria-dittmann/
SUMMARY:Sommerpredigtreihe "Kirche und Politik"\, Gottesdienst auf der Terr
 asse des Gemeindezentrums mit Pastor Peter Fahr\, Thema "Jethro hilft Mose
 "\, Musik von Maria Dittmann
DESCRIPTION:
LOCATION:Gemeindezentrum (Tangstedt)\, Hauptstraße 92\, Tangstedt\, Schles
 wig-Holstein\, 22889\, Stormarn\, Deutschland
X-APPLE-STRUCTURED-LOCATION;VALUE=URI;X-ADDRESS=Hauptstraße 92\, Tangstedt
 \, Schleswig-Holstein\, 22889\, Stormarn\, Deutschland;X-APPLE-RADIUS=100;
 X-TITLE=Gemeindezentrum (Tangstedt):geo:0,0
END:VEVENT
BEGIN:VTIMEZONE
TZID:Europe/Berlin
X-LIC-LOCATION:Europe/Berlin
BEGIN:DAYLIGHT
DTSTART:20240331T030000
TZOFFSETFROM:+0100
TZOFFSETTO:+0200
TZNAME:CEST
END:DAYLIGHT
END:VTIMEZONE
END:VCALENDAR