BEGIN:VCALENDAR
VERSION:2.0
PRODID:-//wp-events-plugin.com//7.2.3.1//EN
TZID:Europe/Berlin
X-WR-TIMEZONE:Europe/Berlin
BEGIN:VEVENT
UID:534@kirche-tangstedt.de
DTSTART;TZID=Europe/Berlin:20240804T110000
DTEND;TZID=Europe/Berlin:20240804T120000
DTSTAMP:20240529T141130Z
URL:https://www.kirche-tangstedt.de/events/sommerpredigtreihe-kirche-und-p
 olitik-gottesdienst-in-der-bergstedter-kirche-mit-pastorin-susanne-von-der
 -lippe-thema-schwerter-zu-pflugscharen/
SUMMARY:Sommerpredigtreihe "Kirche und Politik"\, Gottesdienst in der Bergs
 tedter Kirche mit Pastorin Susanne von der Lippe\, Thema "Schwerter zu Pfl
 ugscharen"
DESCRIPTION:
LOCATION:Bergstedter KIrche\, Wohldorfer Damm 8\, Hamburg\, Hamburg\, 22395
 \, Deutschland
X-APPLE-STRUCTURED-LOCATION;VALUE=URI;X-ADDRESS=Wohldorfer Damm 8\, Hamburg
 \, Hamburg\, 22395\, Deutschland;X-APPLE-RADIUS=100;X-TITLE=Bergstedter KI
 rche:geo:0,0
END:VEVENT
BEGIN:VTIMEZONE
TZID:Europe/Berlin
X-LIC-LOCATION:Europe/Berlin
BEGIN:DAYLIGHT
DTSTART:20240331T030000
TZOFFSETFROM:+0100
TZOFFSETTO:+0200
TZNAME:CEST
END:DAYLIGHT
END:VTIMEZONE
END:VCALENDAR