BEGIN:VCALENDAR
VERSION:2.0
PRODID:-//wp-events-plugin.com//7.2.3.1//EN
TZID:Europe/Berlin
X-WR-TIMEZONE:Europe/Berlin
BEGIN:VEVENT
UID:533@kirche-tangstedt.de
DTSTART;TZID=Europe/Berlin:20240728T100000
DTEND;TZID=Europe/Berlin:20240728T110000
DTSTAMP:20240529T140134Z
URL:https://www.kirche-tangstedt.de/events/sommerpredigtreihe-kirche-und-p
 olitik-gottesdienst-in-der-cantate-kirche-mit-pastor-peter-fahr-thema-kirc
 he-und-staat-musik-von-elena-saschkova/
SUMMARY:Sommerpredigtreihe "Kirche und Politik"\, Gottesdienst in der Canta
 te-Kirche mit Pastor Peter Fahr\, Thema "Kirche und Staat"\, Musik von Ele
 na Saschkova
DESCRIPTION:anschließend Kirchencafé
LOCATION:Cantate-Kirche Duvenstedt\, Duvenstedter Markt 4\, Hamburg\, Hambu
 rg\, 22397 \, Deutschland
X-APPLE-STRUCTURED-LOCATION;VALUE=URI;X-ADDRESS=Duvenstedter Markt 4\, Hamb
 urg\, Hamburg\, 22397 \, Deutschland;X-APPLE-RADIUS=100;X-TITLE=Cantate-Ki
 rche Duvenstedt:geo:0,0
END:VEVENT
BEGIN:VTIMEZONE
TZID:Europe/Berlin
X-LIC-LOCATION:Europe/Berlin
BEGIN:DAYLIGHT
DTSTART:20240331T030000
TZOFFSETFROM:+0100
TZOFFSETTO:+0200
TZNAME:CEST
END:DAYLIGHT
END:VTIMEZONE
END:VCALENDAR