BEGIN:VCALENDAR
VERSION:2.0
PRODID:-//wp-events-plugin.com//7.2.3.1//EN
TZID:Europe/Berlin
X-WR-TIMEZONE:Europe/Berlin
BEGIN:VEVENT
UID:535@kirche-tangstedt.de
DTSTART;TZID=Europe/Berlin:20240811T110000
DTEND;TZID=Europe/Berlin:20240811T120000
DTSTAMP:20240529T140547Z
URL:https://www.kirche-tangstedt.de/events/sommerpredigtreihe-kirche-und-p
 olitik-gottesdienst-mit-pastor-i-r-gunnar-urbach-thema-der-steuergroschen-
 musik-von-maria-dittmann/
SUMMARY:Sommerpredigtreihe "Kirche und Politik"\, Gottesdienst mit Pastor i
 . R. Gunnar Urbach\, Thema "Der Steuergroschen"\, Musik von Maria Dittmann
DESCRIPTION:
LOCATION:Kirche "Zum Guten Hirten" (Tangstedt)\, Hauptstraße 92\, Tangsted
 t\, Schleswig-Holstein\, 22889\, Stormarn\, Deutschland
X-APPLE-STRUCTURED-LOCATION;VALUE=URI;X-ADDRESS=Hauptstraße 92\, Tangstedt
 \, Schleswig-Holstein\, 22889\, Stormarn\, Deutschland;X-APPLE-RADIUS=100;
 X-TITLE=Kirche \"Zum Guten Hirten\" (Tangstedt):geo:0,0
END:VEVENT
BEGIN:VTIMEZONE
TZID:Europe/Berlin
X-LIC-LOCATION:Europe/Berlin
BEGIN:DAYLIGHT
DTSTART:20240331T030000
TZOFFSETFROM:+0100
TZOFFSETTO:+0200
TZNAME:CEST
END:DAYLIGHT
END:VTIMEZONE
END:VCALENDAR